BEGIN:VCALENDAR
VERSION:2.0
PRODID:icalendar-ruby
CALSCALE:GREGORIAN
METHOD:PUBLISH
BEGIN:VEVENT
DTSTAMP:20260422T035602Z
UID:5f5bfae9-cac9-4625-8c86-c6f94a9da6db
DTSTART:20260731T090000
DTEND:20260802T170000
DESCRIPTION:<p>The Shongweni Motor Show has grown into the biggest outdoor 
 Transport & Motor Industry event of its type in Natal\, allowing opportuni
 ty for leading product OEM’s\, Dealerships and Local Businesses\, large 
 and small to exhibit their product and services\, at very affordable exhib
 itor rates. With the discontinuation of the Pietermaritzburg Royal Show\, 
 our Hillcrest based Motor Show has become very well supported by both exhi
 bitors and event visitors over the events 3-day duration.</p><p><br></p><p
 >2026 sees the event celebrate its' 10th anniversary in hosting THE SHONGW
 ENI MOTOR SHOW.  We have increased the event <span>exhibitorship </span>by
  70 new exhibitor sites\, which promises to be the largest gathering of So
 uth African Truck\, Transport\, Agriculture\, Motor Trade\, Outdoor\, Hunt
 \, Fish\, Fire and General Industry exhibited at any event in Natal.</p><p
 ><br></p><p>A thrilling weekend showcasing Motors\, Trucks\, Bikes\, Boats
 \, Caravans\, Aero\, Sporting Gear\, and a Craft Market. With live bands i
 n the Beer Garden Marquee over the weekend\, it's fun for the whole family
 !</p><p><br></p><p>Join us on 31st July\, 1st & 2nd August 2026</p>
LOCATION:Shongweni Rd\, Pinetown NU\, Hillcrest\, 3650
SUMMARY:Shongweni Motor Show 2026
URL;VALUE=URI:https://shongweni.howler.co.za/Motorshow26
END:VEVENT
END:VCALENDAR
